BEGIN:VCALENDAR
VERSION:2.0
PRODID:-//Breaking Ground - ECPv6.15.20//NONSGML v1.0//EN
CALSCALE:GREGORIAN
METHOD:PUBLISH
X-ORIGINAL-URL:https://breakingground.us
X-WR-CALDESC:Events for Breaking Ground
REFRESH-INTERVAL;VALUE=DURATION:PT1H
X-Robots-Tag:noindex
X-PUBLISHED-TTL:PT1H
BEGIN:VTIMEZONE
TZID:America/New_York
BEGIN:DAYLIGHT
TZOFFSETFROM:-0500
TZOFFSETTO:-0400
TZNAME:EDT
DTSTART:20200308T070000
END:DAYLIGHT
BEGIN:STANDARD
TZOFFSETFROM:-0400
TZOFFSETTO:-0500
TZNAME:EST
DTSTART:20201101T060000
END:STANDARD
BEGIN:DAYLIGHT
TZOFFSETFROM:-0500
TZOFFSETTO:-0400
TZNAME:EDT
DTSTART:20210314T070000
END:DAYLIGHT
BEGIN:STANDARD
TZOFFSETFROM:-0400
TZOFFSETTO:-0500
TZNAME:EST
DTSTART:20211107T060000
END:STANDARD
BEGIN:DAYLIGHT
TZOFFSETFROM:-0500
TZOFFSETTO:-0400
TZNAME:EDT
DTSTART:20220313T070000
END:DAYLIGHT
BEGIN:STANDARD
TZOFFSETFROM:-0400
TZOFFSETTO:-0500
TZNAME:EST
DTSTART:20221106T060000
END:STANDARD
END:VTIMEZONE
BEGIN:VEVENT
DTSTART;TZID=America/New_York:20210401T141500
DTEND;TZID=America/New_York:20210401T153000
DTSTAMP:20260424T144407
CREATED:20210301T184336Z
LAST-MODIFIED:20210521T154840Z
UID:5929-1617286500-1617291000@breakingground.us
SUMMARY:A Conversation with Law Professor & Author John Inazu
DESCRIPTION:Regent College and the Regent College Bookstore are pleased to invite you to a conversation with law professor and author John Inazu. Hosted by Dr. Iwan Russell-Jones\, Mr. Inazu will be discussing his recent books Confident Pluralism: Surviving and Thriving Through Deep Difference and Uncommon Ground: Living Faithfully in a World of Difference\, co-edited with Tim Keller. \nIn Confident Pluralism\, Mr. Inazu analyzes the current state of America\, orients the contemporary United States within its broader history\, and explores the ways that Americans can—and must—strive to live together peaceably despite our deeply engrained differences. Pluralism is one of the founding creeds of the United States—yet America’s society and legal system continues to face deep\, unsolved structural problems in dealing with differing cultural anxieties and differing viewpoints. Inazu not only argues that it is possible to cohabitate peacefully\, but also lays out realistic guidelines for our society and legal system to achieve the new American dream through civic practices that value toleration over protest\, humility over defensiveness\, and persuasion over coercion. \nIn Uncommon Ground\, John Inazu and Tim Keller bring together a variety of artists\, thinkers\, and leaders to address the question: How can Christians today interact with those around them in a way that shows respect to those whose beliefs are radically different but that also remains faithful to the gospel? \nJohn Inazu is the Sally D. Danforth Distinguished Professor of Law and Religion at Washington University in St. Louis.  He teaches criminal law\, religion and law\, and various First Amendment courses. He writes and speaks frequently to general audiences on topics of pluralism\, assembly\, free speech\, religious freedom\, and other issues. Inazu is the author of Liberty’s Refuge: The Forgotten Freedom of Assembly (Yale\, 2012) and Confident Pluralism: Surviving and Thriving Through Deep Difference (Chicago\, 2016).  He is co-editor (with Tim Keller) of Uncommon Ground: Living Faithfully in a World of Difference (Thomas Nelson\, 2020). \nDuring the event\, please submit questions to questions@regent-college.edu.
URL:https://breakingground.us/event/a-conversation-with-law-professor-author-john-inazu/
CATEGORIES:Church,Community,Seeing Clearly and Deeply
ATTACH;FMTTYPE=image/png:https://breakingground.us/wp-content/uploads/2021/03/John_Inazu_960.png
END:VEVENT
BEGIN:VEVENT
DTSTART;TZID=America/New_York:20210402T133000
DTEND;TZID=America/New_York:20210402T133000
DTSTAMP:20260424T144407
CREATED:20210401T211425Z
LAST-MODIFIED:20210521T154759Z
UID:6396-1617370200-1617370200@breakingground.us
SUMMARY:Being\, Living & Dying Well: an Online Conversation with Lydia Dugdale
DESCRIPTION:On Good Friday\, April 2nd we invite you to join us for a conversation with professor and physician Lydia Dugdale. In her recent book\, The Lost Art of Dying: Reviving Forgotten Wisdom\, Dugdale revisits ancient wisdom circulated in the wake of the Black Plague about living and dying well. \nOn this Good Friday\, in the wake of our own plague and year of loss\, we invite you to consider what the Passion of Christ means for our living and our dying\, and the hope and beauty that can be found\, even in the valley of the shadow of death. \nSpecial thanks to this event’s sponsors: Goodwin House\nAnd thanks to our co-hosts: Yale Center for Faith and Culture
URL:https://breakingground.us/event/being-living-dying-well-an-online-conversation-with-lydia-dugdale/
CATEGORIES:Church,COVID-19,Introspection,Seeing Clearly and Deeply
ATTACH;FMTTYPE=image/png:https://breakingground.us/wp-content/uploads/2021/04/bdc77442-7c78-497e-bc7f-c4e2cc99db44.png
END:VEVENT
BEGIN:VEVENT
DTSTART;TZID=America/New_York:20210406T190000
DTEND;TZID=America/New_York:20210406T190000
DTSTAMP:20260424T144407
CREATED:20210301T190237Z
LAST-MODIFIED:20210521T154618Z
UID:5948-1617735600-1617735600@breakingground.us
SUMMARY:A Conversation About 'Jesus and the Disinherited' with Dean Luke Powery & Dr. Walter Fluker
DESCRIPTION:As part of its Duke Chapel Reads series\, the chapel will host online conversations about the book Jesus and the Disinherited by the theologian and minister Howard Thurman as a way to address contemporary issues of faith\, race\, justice\, and love. Through the reading series\, the chapel aims to curate spaces for reflection and conversation based on a common book reading each semester. \nChapel Dean and Duke Divinity School Professor Luke A. Powery will host a concluding online discussion in the series on April 6 of the book with Dr. Walter Fluker\, a scholar of Thurman’s work. Fluker is the editor of the multi-volume series The Papers of Howard Washington Thurman and is Dean’s Professor of Spirituality\, Ethics\, and Leadership at Emory University’s Candler School of Theology. \n“Jesus and the Disinherited stands out as a book that both critiques the injustices suffered by people facing oppression and also offers a spirituality of true resistance and reconciliation centered on the love of Jesus\,” Powery said. “It is a book that helped sustain and guide the Rev. Dr. Martin Luther King\, Jr. and his colleagues in the Civil Rights Movement—and I believe it is a book that can provide vision and insight for us in our time and during this upcoming season of Lent.” \nMembers of the Duke community and others who are interested in participating in an online reading group about the book are invited to contact the Rev. Bruce Puckett\, assistant dean of the Chapel. \nIn Jesus and the Disinherited\, first published in 1949\, Thurman frames the book as a response to an inquiry about how he can hold to a Christian faith that has been used to justify the enslavement and mistreatment of Black Americans for centuries. Using the sociological language of his time\, Thurman explores how Jesus\, a rural Jew under Roman occupation\, was among\, and spoke to\, those “with their backs against the wall.” Thurman argues that from this social location Jesus teaches against evils that could corrode the oppressed from within—fear\, deception\, and hate—and for an ethic of love. \nPowery is currently teaching a course through Duke’s Divinity School titled “Deep River: Howard Thurman\, Spirituality\, and the Prophetic Life.” He recently contributed an essay to the book Anchored in the Current: Discovering Howard Thurman as Educator\, Activist\, Guide\, and Prophet\, which offers fresh insights into Thurman as a mystic\, preacher\, educator\, and theologian.
URL:https://breakingground.us/event/a-conversation-about-jesus-and-the-disinherited-with-dean-luke-powery-dr-walter-fluker/
CATEGORIES:Church,Education,Learning From the Past
ATTACH;FMTTYPE=image/jpeg:https://breakingground.us/wp-content/uploads/2021/03/ad8d967a37951ec0f241b4b4f14c9a4e-O-thurman_book_web1000_20210209033632PM.jpg
END:VEVENT
BEGIN:VEVENT
DTSTART;TZID=America/New_York:20210409T120000
DTEND;TZID=America/New_York:20210409T120000
DTSTAMP:20260424T144407
CREATED:20210401T213821Z
LAST-MODIFIED:20210521T154527Z
UID:6423-1617969600-1617969600@breakingground.us
SUMMARY:Does Civility Still Matter?
DESCRIPTION:In an increasingly polarized age\, people are confused about when civility is appropriate\, and what it entails. In a conversation moderated by David Corey (Baylor in Washington)\, join Dr. Cornel West (Union Theological Seminary)\, Dr. Teresa Bejan (Oxford University)\, and Dr. Andrew Sullivan (The Weekly Dish) to explore these questions\, as well as the role of religious faith in the practice of civility. \nThe IHE is pleased to cosponsor this event with Baylor in Washington as a program of the Joint Initiative on Faith and the American Commonwealth.
URL:https://breakingground.us/event/does-civility-still-matter/
CATEGORIES:Community,Justice,Learning From the Past,Politics,Seeing Clearly and Deeply
ATTACH;FMTTYPE=image/png:https://breakingground.us/wp-content/uploads/2021/04/Baylor-IHE-Background-1.png
END:VEVENT
BEGIN:VEVENT
DTSTART;TZID=America/New_York:20210409T133000
DTEND;TZID=America/New_York:20210409T133000
DTSTAMP:20260424T144407
CREATED:20210401T211622Z
LAST-MODIFIED:20210521T154439Z
UID:6400-1617975000-1617975000@breakingground.us
SUMMARY:All the Lonely People: Isolation\, Connection & The Common Good
DESCRIPTION:An Online Conversation with Ryan Streeter & Francie Broghammer\nOn April 9\, in partnership with the Pepperdine School of Public Policy we are excited to host author and scholar Ryan Streeter and psychiatrist Francie Broghammer on America’s epidemic of loneliness and the path towards meaningful connection. \nLoneliness in America has been sharply increasing\, even before the onset of the pandemic — despite our virtually unprecedented national prosperity\, technological advance\, and immediate virtual access to information and each other\, there is\, in the words of our guest Francie Broghammer\, a growing “toll of despair.” The thinning of many family and community ties has sharpened our felt sense of isolation\, and led some to seek a sense of solidarity in political involvement. But Streeter’s research has found that “normally\, when people get involved in their communities\, social capital grows and loneliness declines…But we have found that political engagement is a lone exception to this rule.” \nHow then should we think about reinvigorating the relational and community ties that encourage the flourishing of both the individual and the body politic? What are the antidotes to isolation in a time of pandemic — and beyond? Is there hope for connecting lonely people in a divided nation at a polarized time? \nWe hope you’ll join us as we wrestle with these questions and more.
URL:https://breakingground.us/event/all-the-lonely-people-isolation-connection-the-common-good/
CATEGORIES:Community,COVID-19,Science,Seeing Clearly and Deeply
ATTACH;FMTTYPE=image/png:https://breakingground.us/wp-content/uploads/2021/04/db778fcb-8fc5-43f0-8b56-d4574a4e779d.png
END:VEVENT
BEGIN:VEVENT
DTSTART;TZID=America/New_York:20210409T153000
DTEND;TZID=America/New_York:20210409T163000
DTSTAMP:20260424T144407
CREATED:20210301T184717Z
LAST-MODIFIED:20210521T154351Z
UID:5932-1617982200-1617985800@breakingground.us
SUMMARY:Living in the Midst of Death: Theological Reflections on Aging and Technology
DESCRIPTION:Being human in our technological age requires not merely technical skills but—more importantly—intellectual capacity to navigate a rapidly changing philosophical milieu. Join us this winter for our online lecture series\, Human Flourishing in a Technological Age\, to learn from leading scholars about key aspects of what it means to be human in a technological age: personhood\, embodied cognition\, leisure\, transhumanism and more. \nPlease join us on Friday\, April 9 as we welcome Dr. Michael Mawson who will give the lecture “Living in the Midst of Death: Theological Reflections on Aging and Technology.” \n\nDr. Mawson will draw upon the Lutheran theologian Dietrich Bonhoeffer and the Austrian born philosopher Jean Améry to reflect upon the phenomenon of human ageing. In particular\, he will explore how Bonhoeffer and Améry might help us to better understand and attend to the ambiguities and complexities of our experiences of ageing. In the first part\, Dr. Mawson will engage Bonhoeffer’s theological account of the human being as situated between life and death. In his 1933 Creation and Fall\, Bonhoeffer presents human beings as existing between the two conflicting promises of the opening chapters of Genesis: God’s promise to Adam in the garden (‘if you eat from this tree you will surely die’) and the Serpent’s promise to Eve (‘you will not die at all’). These two promises together encapsulate and disclose the situation of the humanity: ‘After the fall\, all human beings are suspended between these two conflicting statements—living towards death\, living as those already dead.’ In the second part of this lecture\, Dr. Mawson will turn to Améry’s phenomenological reflections in On Ageing: Revolution and Revolt (1968)\, wherein he provides an account of ageing as ‘death in the midst of life’. In aging\, as Améry reflects\, “we become more alienated from ourselves and more familiar with ourselves…Day and night cancel each other out in twilight.” Améry’s rich descriptions thus draw attention to ambiguities and tensions that are present in all experiences of aging. Dr. Mawson will conclude by demonstrating how Bonhoeffer and Améry can assist with contesting the kinds of utopianism and idealism prevalent in many standard approaches to aging. In particular\, Bonhoeffer and Amery help us to recognise the limitations of medical and technological responses to aging. Such responses fail to address our actual human experience because they promote life as the opposite of death\, and in so doing they fail to attend to the nature of aging as dying.\n\n\n\nDr. Michael Mawson is Senior Lecturer in Systematic Theology & Ethics and Research Fellow in the Public and Contextual Theology Research Centre at Charles Sturt University\, Australia. He holds a doctorate from the University of Notre Dame and teaches theology and ethics at the United Theological College of Charles Sturt University in Sydney Australia. He has particular interests in modern German theology and ethics\, bioethics\, phenomenology\, and the writing of Dietrich Bonhoeffer. He has completed a monograph on Bonhoeffer’s ecclesiology and is at the beginning of a new project on ethics and aging. He has co-edited four books including the Oxford Handbook of Dietrich Bonhoeffer. Dr Mawson’s work has also appeared in The Scottish Journal of Theology\, The International Journal of Systematic Theology\, and The Journal of Religion\, Disability and Health.
URL:https://breakingground.us/event/living-in-the-midst-of-death-theological-reflections-on-aging-and-technology/
CATEGORIES:Introspection,Science,Seeing Clearly and Deeply,Technology
ATTACH;FMTTYPE=image/jpeg:https://breakingground.us/wp-content/uploads/2021/03/Human_Flourishing_Banner-02-02.jpg
END:VEVENT
BEGIN:VEVENT
DTSTART;TZID=America/New_York:20210413T140000
DTEND;TZID=America/New_York:20210413T153000
DTSTAMP:20260424T144407
CREATED:20210401T212352Z
LAST-MODIFIED:20210521T154321Z
UID:6410-1618322400-1618327800@breakingground.us
SUMMARY:Neighbourliness in a Global Context
DESCRIPTION:What does it mean to be a good neighbour on a global scale? Theos researcher Simon Perfect will chair this talk given by the Bishop of London. \nWhat does it mean to be a good neighbour on a global scale? How might Brexit impact on our ability to live up to that challenge? Has the coronavirus pandemic taught us anything about solidarity with our international neighbours in a time of far–reaching disaster? How might all of this shape our approach to climate change? \nThe Rt Revd Sarah Mullally\, the Bishop of London\, will explore these questions at this event hosted by JustShare on 13th April\, asking how we might engage with our neighbours’ struggles\, allow our lives to be diverted off course for the sake of their wellbeing\, and recognise our resources as theirs. \n13th April\, 6–7.30pm GMT \nRegister for the event here. \nThe Rt Revd and Rt Hon Dame Bishop Sarah was installed as the 133rd Bishop of London at St Paul’s Cathedral on 12th May 2018. Before ordination she was Chief Nursing Officer in the Department of Health. She served her first curacy at Battersea Fields from 2001 to 2006 and from 2006 to 2012 she was Team Rector at Sutton\, both in the Diocese of Southwark. From 2012 to 2015 she was Canon Residentiary and Canon Treasurer at Salisbury Cathedral before her consecration in 2015 as the Suffragan Bishop of Crediton in the Diocese of Exeter. She was made a Dame Commander of the British Empire in 2005 for her contribution to nursing and midwifery. \nSimon Perfect is a Researcher at Theos\, the religion and society thinktank\, and a Tutor at the School of Oriental and African Studies (SOAS). He is the author of Theos reports exploring religion or belief in universities\, economic inequality in the UK\, and university chaplaincy. He is also co–author of the book Freedom of Speech in Universities: Islam\, Charities and Counter–terrorism (Routledge\, 2021).
URL:https://breakingground.us/event/neighbourliness-in-a-global-context/
CATEGORIES:Church,Community,Politics,Seeing Clearly and Deeply
ATTACH;FMTTYPE=image/jpeg:https://breakingground.us/wp-content/uploads/2021/04/3148b1a09c71e01514af6b892993678e.jpg
ORGANIZER;CN="THEOS":MAILTO:bg689+lharper@cardus.ca
END:VEVENT
BEGIN:VEVENT
DTSTART;TZID=America/New_York:20210416T120000
DTEND;TZID=America/New_York:20210416T120000
DTSTAMP:20260424T144407
CREATED:20210401T214040Z
LAST-MODIFIED:20210521T154249Z
UID:6427-1618574400-1618574400@breakingground.us
SUMMARY:The Battle Over American History and Civics: The Traps and Perils of Having a National Plan
DESCRIPTION:A broad consensus has formed for improved instruction in American history and civics.  Multiple studies and assessments indicate that Americans have an appallingly deficient understanding of their history and their governing process.  And\, of course\, the events of political violence over the last year exacerbate those concerns. \nBut what should such an effort look like?  Should it be based within the states? Should Congress adopt a national strategy? If so\, should that be overseen by the federal bureaucracy and implemented by the states? \nFor a Faith and Law Friday Forum\, join IHE Director of the Program on the Constitution and Catholic Social Doctrine Emmett McGroarty for a conversation on U.S. civics and history education with Stanley Kurtz (Ethics and Public Policy Center) and Bill McClay (Liberty University).
URL:https://breakingground.us/event/the-battle-over-american-history-and-civics-the-traps-and-perils-of-having-a-national-plan/
CATEGORIES:Community,Learning From the Past,Politics
ATTACH;FMTTYPE=image/png:https://breakingground.us/wp-content/uploads/2021/04/Website_COVID-the-Courts-and-Religious-Liberty_3-5-21-1.png
END:VEVENT
BEGIN:VEVENT
DTSTART;TZID=America/New_York:20210419T170000
DTEND;TZID=America/New_York:20210419T170000
DTSTAMP:20260424T144407
CREATED:20210301T190435Z
LAST-MODIFIED:20210521T154215Z
UID:5952-1618851600-1618851600@breakingground.us
SUMMARY:'The Brown Church' with Rev. Dr. Chao Romero
DESCRIPTION:The Hispanic House of Studies at Duke Divinity School will sponsor a conversation with the Rev. Dr. Chao Romero speaking on his latest book\, Brown Church\, highlighting the history of the Latinx church and its pertinence to the present times. The event\, titled “The Brown Church\,” is part of the 2021 Sumérgete Webinar Series featuring webinars on a variety of topics for laity\, pastors\, and other interested persons on theological topics related to the Latinx community. \nRomero is “Asian-Latino” and has been a professor of Chicana/o Studies and Asian American Studies at UCLA since 2005. He received his Ph.D. from UCLA in Latin American History and his Juris Doctor from U.C. Berkeley\, and is also an attorney. Romero has published 15 academic books and articles on issues of race\, immigration\, history\, education\, and religion\, and received the Latina/o Studies book award from the international Latin American Studies Association. He  is an ordained pastor. Together with his wife Erica\, he is the co-founder of Jesus 4 Revolutionaries\, a Christian ministry to activists\, as well as the co-chair of the Matthew 25 Movement in Southern California.
URL:https://breakingground.us/event/the-brown-church-with-rev-dr-chao-romero/
CATEGORIES:Justice,Race,Science,Seeing Clearly and Deeply
ATTACH;FMTTYPE=image/jpeg:https://breakingground.us/wp-content/uploads/2021/03/9780830852857-us.jpg
END:VEVENT
BEGIN:VEVENT
DTSTART;TZID=America/New_York:20210423T133000
DTEND;TZID=America/New_York:20210423T133000
DTSTAMP:20260424T144407
CREATED:20210401T211816Z
LAST-MODIFIED:20210521T154130Z
UID:6403-1619184600-1619184600@breakingground.us
SUMMARY:Suffering\, Healing & Meaning: An Online Conversation with Philip Yancey & Julia Wattacheril
DESCRIPTION:We are delighted to host the next event in our “Discovery and Doxology” series in partnership with BioLogos and Church of the Advent. This series brings together leading scientists and theologians to discuss the relationship between science and faith. \nOn Friday\, April 23rd author and theologian Philip Yancey will be joined by Dr. Julia Wattacheril to discuss suffering and its redemption. Yancey believes that “the redemption of pain is better than the removal of it.” Yancey and Wattacheril will help us think through the meaning of our personal and national pain and how knowing the God who suffers-with us transforms our suffering into something beautiful. We hope you will join us! \nThis event was made possible through the support of a grant from Templeton Religion Trust. The opinions expressed in this program do not necessarily reflect the views of Templeton Religion Trust.
URL:https://breakingground.us/event/suffering-healing-meaning-an-online-conversation-with-philip-yancey-julia-wattacheril/
CATEGORIES:Church,Science,Seeing Clearly and Deeply
ATTACH;FMTTYPE=image/png:https://breakingground.us/wp-content/uploads/2021/04/c956857c-0fc4-4f37-8b08-6f60d906ca4e.png
END:VEVENT
BEGIN:VEVENT
DTSTART;TZID=America/New_York:20210427T140000
DTEND;TZID=America/New_York:20210427T140000
DTSTAMP:20260424T144407
CREATED:20210401T214320Z
LAST-MODIFIED:20210521T154050Z
UID:6430-1619532000-1619532000@breakingground.us
SUMMARY:Palliative and Hospice Care From a Catholic Perspective
DESCRIPTION:The COVID-19 pandemic has caused a renewed societal focus on issues related to sickness and death. But how do we best care for the sick and for the dying? How do we appropriately provide palliative care and hospice care? \nIn the first collaboration between the National Catholic Bioethics Center and the Institute for Human Ecology\, listen to a panel discussion\, moderated by IHE Director of the M.A. Program in Human Rights William Saunders\, J.D.\, with ethicists Dr. Jozef Zalot (National Catholic Bioethics Center) and Dr. Myles Sheehan (Pellegrino Center for Clinical Ethics; Georgetown Medical School)\, on the definition and scope of palliative and hospice care from a Catholic perspective.
URL:https://breakingground.us/event/palliative-and-hospice-care-from-a-catholic-perspective/
CATEGORIES:Church,Family,Introspection,Science,Seeing Clearly and Deeply
ATTACH;FMTTYPE=image/png:https://breakingground.us/wp-content/uploads/2021/04/Website_27-4-21_NCBC_IHE-2-1.png
END:VEVENT
BEGIN:VEVENT
DTSTART;TZID=America/New_York:20210428T123000
DTEND;TZID=America/New_York:20210428T150000
DTSTAMP:20260424T144407
CREATED:20210401T213143Z
LAST-MODIFIED:20210521T154018Z
UID:6417-1619613000-1619622000@breakingground.us
SUMMARY:Reading the Gospels While Black: A Conversation with Esau McCaulley & N.T. Wright
DESCRIPTION:We are delighted to partner with Seattle Pacific Seminary and Portland Seminary to present Reading the Gospels While Black\, a timely conversation between Dr. Esau McCaulley and Dr. N.T. Wright. The morning will open with a conversation between Dr. McCaulley and Dr. Wright\, followed by two teaching sessions and a Q&A session moderated by Tim Mackie of The Bible Project. We hope you’ll join us for this important and illuminating event. \nThis event is free and open to the public\, but does require advanced registration.
URL:https://breakingground.us/event/reading-the-gospels-while-black-a-conversation-with-esau-mccaulley-n-t-wright/
CATEGORIES:Church,Justice,Race,Seeing Clearly and Deeply
ATTACH;FMTTYPE=image/jpeg:https://breakingground.us/wp-content/uploads/2021/04/ReadingTheGospelsWhileBlack960x460.jpg
END:VEVENT
BEGIN:VEVENT
DTSTART;TZID=America/New_York:20210429T130000
DTEND;TZID=America/New_York:20210429T130000
DTSTAMP:20260424T144407
CREATED:20210429T160632Z
LAST-MODIFIED:20210521T153947Z
UID:6719-1619701200-1619701200@breakingground.us
SUMMARY:Beyond Diversity
DESCRIPTION:Guided by the expert research team behind Barna’s Beyond Diversity study\, along with ministry practitioners\, journey toward deeper understanding and greater empathy around racial justice issues and learn how to cultivate a healthier multiethnic team and community.
URL:https://breakingground.us/event/beyond-diversity/
CATEGORIES:Church,Justice,Politics,Race,Seeing Clearly and Deeply
ATTACH;FMTTYPE=image/png:https://breakingground.us/wp-content/uploads/2021/04/unnamed-1.png
END:VEVENT
BEGIN:VEVENT
DTSTART;TZID=America/New_York:20210429T180000
DTEND;TZID=America/New_York:20210429T180000
DTSTAMP:20260424T144407
CREATED:20210422T172127Z
LAST-MODIFIED:20210521T153916Z
UID:6632-1619719200-1619719200@breakingground.us
SUMMARY:Flannery\, ‘Revelation\,’ and Race
DESCRIPTION:The Francis and Ann Curran Center for American Catholic Studies at Fordham University Presents: \nFlannery\, ‘Revelation\,’ and Race: an Audio Drama and a Contextual Conversation\nThursday\, April 29\, 2021\n6 p.m. EST\nModerated by Curran Center associate director Angela Alaimo O’Donnell\, Ph.d. \nPanelists: Professor Mark Chapman\, Ph.d. (Fordham University)\, author William Eric Waters\, director Karin Coonrod (Yale)\, and actor KenYatta Rogers (Montgomery College) \nThis contextual conversation\, which will take place as a webinar\, will begin with an audio stream of theater company Compagnia de’ Colombari’s latest work in development\, a stage production of “Revelation\,” Flannery O’Connor’s powerful story about race in the American South during the Civil Rights era.  Afterwards\, four distinguished panelists will engage in a contextual conversation around O’Connor and race. \nThis event\, the first of a series of contextual conversations\, is part of a project to build support for the future stage production of “Revelation.”  These contextual conversations\, by engaging directly with the issues surrounding the author’s views on race\, are designed to build engagement and support for the fully staged production of the drama. The conversation will be recorded for archival and educational purposes. \nFree and open to the public. Registration is required. A Zoom link will be sent upon registration. For more information\, or to RSVP\, email cacs@fordham.edu
URL:https://breakingground.us/event/flannery-revelation-and-race/
CATEGORIES:Learning From the Past,Politics,Race
ATTACH;FMTTYPE=image/png:https://breakingground.us/wp-content/uploads/2021/04/unnamed.png
END:VEVENT
END:VCALENDAR